BEGIN:VCALENDAR
PRODID:NingEventWidget-v1
VERSION:2.0
METHOD:PUBLISH
BEGIN:VTIMEZONE
TZID:America/Dawson_Creek
X-LIC-LOCATION:America/Dawson_Creek
BEGIN:STANDARD
TZOFFSETFROM:-0700
TZOFFSETTO:-0700
TZNAME:MST
DTSTART:19700101T000000
END:STANDARD
END:VTIMEZONE
BEGIN:VEVENT
UID:3786856:Event:207497
DTSTAMP:20260421T190558Z
SUMMARY:YNP: Dingley Creek and Ragged Peak Saddle
DESCRIPTION:Photo: Ragged Peak Saddle.\r\n** This date requires one re
 servation per car **\r\nTrail Head: The Dog Lake parking lot near theÂ
  Tuolumne Meadows Ranger Station.\r\nFee: $35 YNP entrance fee or annu
 al pass.\r\nDescription: Moderate to strenuous 10-Mile up and back, pa
 rtial cross-country. Hike to Dog Lake, Delaney MeadowÂ and beyond to D
 ingley Creek. Hike off trailÂ to the head ofÂ Dingley Creek and lunchÂ
  on the alpine meadow. Continue off-trail toÂ Ragged Peak Saddle for t
 he view of Mt. Conness andÂ Young Lakes. Bag Ragged Peak for fun.\r\nE
 levation: 8700 ft. at the parking lot, 10,500 ft. at the saddle. Ragge
 d Peak summit is 10,815'.\r\nNo dogs on this one.Â \r\nDinner: Trailga
 te at trail head.\r\nLast hiked: 7/16/2016\n\nFor more information vis
 it https://inspiringheights.ning.com/events/ynp-dingley-creek-and-ragg
 ed-peak-saddle-1
DTSTART;TZID=America/Dawson_Creek:20240722T100000
DTEND;TZID=America/Dawson_Creek:20240722T180000
CATEGORIES:day, hike
LOCATION:Tuolumne Meadows
WEBSITE:http://www.americansouthwest.net/california/yosemite/young1_l.
 html
URL:http://www.americansouthwest.net/california/yosemite/young1_l.html
CONTACT:209-305-7990
ORGANIZER;CN="Becky L. Teberg":https://inspiringheights.ning.com/profi
 le/BeckyLTeberg
ATTACH;FMTTYPE="image/jpeg":http://storage.ning.com/topology/rest/1.0/
 file/get/2444548678?profile=original
ATTENDEE;ROLE=REQ-PARTICIPANT;PARTSTAT=ACCEPTED;RSVP=TRUE;CN="Nick Teb
 erg":https://inspiringheights.ning.com/profile/NickTeberg
ATTENDEE;ROLE=REQ-PARTICIPANT;PARTSTAT=ACCEPTED;RSVP=TRUE;CN="Jennifer
  Hodges":https://inspiringheights.ning.com/profile/JenniferHodges
ATTENDEE;ROLE=REQ-PARTICIPANT;PARTSTAT=ACCEPTED;RSVP=TRUE;CN="Alice Fo
 theringham ":https://inspiringheights.ning.com/profile/AliceFotheringh
 am376
ATTENDEE;ROLE=REQ-PARTICIPANT;PARTSTAT=ACCEPTED;RSVP=TRUE;CN="Don Mulc
 ahy":https://inspiringheights.ning.com/profile/DonMulcahy
ATTENDEE;ROLE=REQ-PARTICIPANT;PARTSTAT=ACCEPTED;RSVP=TRUE;CN="Becky L.
  Teberg":https://inspiringheights.ning.com/profile/BeckyLTeberg
ATTENDEE;ROLE=REQ-PARTICIPANT;PARTSTAT=TENTATIVE;RSVP=TRUE;CN="Debbie 
 Gerhart":https://inspiringheights.ning.com/profile/DebbieGerhart
ATTENDEE;ROLE=REQ-PARTICIPANT;PARTSTAT=TENTATIVE;RSVP=TRUE;CN="Maryros
 e Leubner":https://inspiringheights.ning.com/profile/MaryroseLeubner
ATTENDEE;ROLE=REQ-PARTICIPANT;PARTSTAT=TENTATIVE;RSVP=TRUE;CN="Dee DiD
 omenico":https://inspiringheights.ning.com/profile/DeeDiDomenico
ATTENDEE;ROLE=REQ-PARTICIPANT;PARTSTAT=TENTATIVE;RSVP=TRUE;CN="Connie 
 Metz":https://inspiringheights.ning.com/profile/ConnieMetz178
ATTENDEE;ROLE=REQ-PARTICIPANT;PARTSTAT=TENTATIVE;RSVP=TRUE;CN="Christi
 ne Santos":https://inspiringheights.ning.com/profile/Christine
END:VEVENT
END:VCALENDAR
